BEGIN:VCALENDAR
VERSION:2.0
PRODID:icalendar-ruby
CALSCALE:GREGORIAN
METHOD:PUBLISH
BEGIN:VEVENT
DTSTAMP:20260423T220140Z
UID:22-626677@mbcwva.com
DTSTART:20260913T223000Z
DTEND:20260914T000000Z
CLASS:PUBLIC
CREATED:20260423T171044
DESCRIPTION:
LAST-MODIFIED:20260423T171044
LOCATION:Maranatha Baptist Church
SUMMARY:Sunday Night Worship
URL;VALUE=URI:https://www.mbcwva.com/events/sunday-night-worship--22/2026-0
 9-13
END:VEVENT
END:VCALENDAR
