BEGIN:VCALENDAR
VERSION:2.0
PRODID:icalendar-ruby
CALSCALE:GREGORIAN
METHOD:PUBLISH
BEGIN:VEVENT
DTSTAMP:20260424T011235Z
UID:22-627249@mbcwva.com
DTSTART:20260927T223000Z
DTEND:20260928T000000Z
CLASS:PUBLIC
CREATED:20260423T200402
DESCRIPTION:
LAST-MODIFIED:20260423T200402
LOCATION:Maranatha Baptist Church
SUMMARY:Sunday Night Worship
URL;VALUE=URI:https://www.mbcwva.com/events/sunday-night-worship--22/2026-0
 9-27
END:VEVENT
END:VCALENDAR
