BEGIN:VCALENDAR
VERSION:2.0
PRODID:icalendar-ruby
CALSCALE:GREGORIAN
METHOD:PUBLISH
BEGIN:VEVENT
DTSTAMP:20260424T030016Z
UID:22-627820@mbcwva.com
DTSTART:20261004T223000Z
DTEND:20261005T000000Z
CLASS:PUBLIC
CREATED:20260423T225830
DESCRIPTION:
LAST-MODIFIED:20260423T225830
LOCATION:Maranatha Baptist Church
SUMMARY:Sunday Night Worship
URL;VALUE=URI:https://www.mbcwva.com/events/sunday-night-worship--22/2026-1
 0-04
END:VEVENT
END:VCALENDAR
