BEGIN:VCALENDAR
VERSION:2.0
PRODID:icalendar-ruby
CALSCALE:GREGORIAN
METHOD:PUBLISH
BEGIN:VEVENT
DTSTAMP:20260424T100725Z
UID:22-627824@mbcwva.com
DTSTART:20261101T233000Z
DTEND:20261102T010000Z
CLASS:PUBLIC
CREATED:20260423T225830
DESCRIPTION:
LAST-MODIFIED:20260423T225830
LOCATION:Maranatha Baptist Church
SUMMARY:Sunday Night Worship
URL;VALUE=URI:https://www.mbcwva.com/events/sunday-night-worship--22/2026-1
 1-01
END:VEVENT
END:VCALENDAR
