BEGIN:VCALENDAR
VERSION:2.0
PRODID:icalendar-ruby
CALSCALE:GREGORIAN
METHOD:PUBLISH
BEGIN:VEVENT
DTSTAMP:20260424T002152Z
UID:20-627057@mbcwva.com
DTSTART:20260913T140000Z
DTEND:20260913T145000Z
CLASS:PUBLIC
CREATED:20260423T200401
DESCRIPTION:
LAST-MODIFIED:20260423T200401
LOCATION:Maranatha Baptist Church
SUMMARY:Sunday School
URL;VALUE=URI:https://www.mbcwva.com/events/sunday-school--20/2026-09-13
END:VEVENT
END:VCALENDAR
