BEGIN:VCALENDAR
VERSION:2.0
PRODID:icalendar-ruby
CALSCALE:GREGORIAN
METHOD:PUBLISH
BEGIN:VEVENT
DTSTAMP:20260424T073250Z
UID:20-627631@mbcwva.com
DTSTART:20261011T140000Z
DTEND:20261011T145000Z
CLASS:PUBLIC
CREATED:20260423T225830
DESCRIPTION:
LAST-MODIFIED:20260423T225830
LOCATION:Maranatha Baptist Church
SUMMARY:Sunday School
URL;VALUE=URI:https://www.mbcwva.com/events/sunday-school--20/2026-10-11
END:VEVENT
END:VCALENDAR
