BEGIN:VCALENDAR
VERSION:2.0
PRODID:icalendar-ruby
CALSCALE:GREGORIAN
METHOD:PUBLISH
BEGIN:VEVENT
DTSTAMP:20260424T090200Z
UID:20-627632@mbcwva.com
DTSTART:20261018T140000Z
DTEND:20261018T145000Z
CLASS:PUBLIC
CREATED:20260423T225830
DESCRIPTION:
LAST-MODIFIED:20260423T225830
LOCATION:Maranatha Baptist Church
SUMMARY:Sunday School
URL;VALUE=URI:https://www.mbcwva.com/events/sunday-school--20/2026-10-18
END:VEVENT
END:VCALENDAR
